BEGIN:VCALENDAR
VERSION:2.0
PRODID:-//Clara Barton Museum - ECPv6.15.20//NONSGML v1.0//EN
CALSCALE:GREGORIAN
METHOD:PUBLISH
X-WR-CALNAME:Clara Barton Museum
X-ORIGINAL-URL:https://clarabartonmuseum.org
X-WR-CALDESC:Events for Clara Barton Museum
REFRESH-INTERVAL;VALUE=DURATION:PT1H
X-Robots-Tag:noindex
X-PUBLISHED-TTL:PT1H
BEGIN:VTIMEZONE
TZID:America/New_York
BEGIN:DAYLIGHT
TZOFFSETFROM:-0500
TZOFFSETTO:-0400
TZNAME:EDT
DTSTART:20150308T070000
END:DAYLIGHT
BEGIN:STANDARD
TZOFFSETFROM:-0400
TZOFFSETTO:-0500
TZNAME:EST
DTSTART:20151101T060000
END:STANDARD
BEGIN:DAYLIGHT
TZOFFSETFROM:-0500
TZOFFSETTO:-0400
TZNAME:EDT
DTSTART:20160313T070000
END:DAYLIGHT
BEGIN:STANDARD
TZOFFSETFROM:-0400
TZOFFSETTO:-0500
TZNAME:EST
DTSTART:20161106T060000
END:STANDARD
BEGIN:DAYLIGHT
TZOFFSETFROM:-0500
TZOFFSETTO:-0400
TZNAME:EDT
DTSTART:20170312T070000
END:DAYLIGHT
BEGIN:STANDARD
TZOFFSETFROM:-0400
TZOFFSETTO:-0500
TZNAME:EST
DTSTART:20171105T060000
END:STANDARD
END:VTIMEZONE
BEGIN:VEVENT
DTSTART;TZID=America/New_York:20160305T143000
DTEND;TZID=America/New_York:20160305T170000
DTSTAMP:20260421T061808
CREATED:20151106T172422Z
LAST-MODIFIED:20160203T202115Z
UID:411-1457188200-1457197200@clarabartonmuseum.org
SUMMARY:In Frederick: Clara Barton and Her "Callers"
DESCRIPTION:Clara Barton accomplished so much\, but she didn’t do it alone. \nJoin us at the Clara Barton Missing Soldiers Office to discover the men and women who helped Clara with her work. From saintly stories of volunteerism to salacious rumors\, uncover the intimate history of Clara Barton and her many callers. \nIncluded in Museum Admission \nMembers Free
URL:https://clarabartonmuseum.org/event/clarascallers3516/
LOCATION:National Museum of Civil War Medicine\, 48 East Patrick Street\, Washington\, DC\, 20004
ATTACH;FMTTYPE=image/png:/wp-content/uploads/2015/11/Claras-Callers-Header-2.png
END:VEVENT
BEGIN:VEVENT
DTSTART;TZID=America/New_York:20160219T190000
DTEND;TZID=America/New_York:20160219T210000
DTSTAMP:20260421T061808
CREATED:20160202T212219Z
LAST-MODIFIED:20160212T013752Z
UID:784-1455908400-1455915600@clarabartonmuseum.org
SUMMARY:Concerts at Clara's: Adam Narimatsu
DESCRIPTION:Narimatsu combines jazz\, classical\, and contemporary music with unwavering energy and passion for an electric performance. His performance in the Missing Soldiers Office promises to include some of your favorite songs … and the stories behind them. \nNarimatsu’s performance is part of the Concerts at Clara’s series. Throughout the year\, different local musicians will perform in the historic rooms of the Missing Soldiers Office. Throughout history\, music has helped bring people together\, it has been a way to share stories and to find common ground. The Clara Barton Missing Soldiers Office is proud to continue this tradition with Concerts at Clara’s. \nDoors open at 7:00 pm\, Concert begins at 7:30 pm. \nGet Your Tickets Now \nTours of the Museum will not be given during the concert. However\, present your concert ticket and take the 6:00 pm tour on the day of the concert\, free of charge.
URL:https://clarabartonmuseum.org/event/narimatsu21916/
LOCATION:Clara Barton Missing Soldiers Office Museum\, 437 7th Street NW\, Washington\, 20004\, United States
CATEGORIES:Concerts at Clara's
ATTACH;FMTTYPE=image/png:/wp-content/uploads/2016/02/Adam-Narimatsu.png
END:VEVENT
BEGIN:VEVENT
DTSTART;TZID=America/New_York:20160213T170000
DTEND;TZID=America/New_York:20160213T183000
DTSTAMP:20260421T061808
CREATED:20151106T165725Z
LAST-MODIFIED:20160129T182154Z
UID:410-1455382800-1455388200@clarabartonmuseum.org
SUMMARY:Clara Barton and Her "Callers"
DESCRIPTION:Clara Barton accomplished so much\, but she didn’t do it alone. \nJoin us at the Clara Barton Missing Soldiers Office to discover the men and women who helped Clara with her work. From saintly stories of volunteerism to salacious rumors\, uncover the intimate history of Clara Barton and her many callers. \n  \nGET Your Ticket Now
URL:https://clarabartonmuseum.org/event/clarascallers21316/
ATTACH;FMTTYPE=image/jpeg:/wp-content/uploads/2015/11/Featured-Image-for-Claras-Callers-1.jpg
ORGANIZER;CN="Jake Wynn":MAILTO:jake.wynn@civilwarmed.org
END:VEVENT
END:VCALENDAR