BEGIN:VCALENDAR
VERSION:2.0
PRODID:-//Clara Barton Museum - ECPv6.15.20//NONSGML v1.0//EN
CALSCALE:GREGORIAN
METHOD:PUBLISH
X-ORIGINAL-URL:https://clarabartonmuseum.org
X-WR-CALDESC:Events for Clara Barton Museum
REFRESH-INTERVAL;VALUE=DURATION:PT1H
X-Robots-Tag:noindex
X-PUBLISHED-TTL:PT1H
BEGIN:VTIMEZONE
TZID:America/New_York
BEGIN:DAYLIGHT
TZOFFSETFROM:-0500
TZOFFSETTO:-0400
TZNAME:EDT
DTSTART:20240310T070000
END:DAYLIGHT
BEGIN:STANDARD
TZOFFSETFROM:-0400
TZOFFSETTO:-0500
TZNAME:EST
DTSTART:20241103T060000
END:STANDARD
BEGIN:DAYLIGHT
TZOFFSETFROM:-0500
TZOFFSETTO:-0400
TZNAME:EDT
DTSTART:20250309T070000
END:DAYLIGHT
BEGIN:STANDARD
TZOFFSETFROM:-0400
TZOFFSETTO:-0500
TZNAME:EST
DTSTART:20251102T060000
END:STANDARD
BEGIN:DAYLIGHT
TZOFFSETFROM:-0500
TZOFFSETTO:-0400
TZNAME:EDT
DTSTART:20260308T070000
END:DAYLIGHT
BEGIN:STANDARD
TZOFFSETFROM:-0400
TZOFFSETTO:-0500
TZNAME:EST
DTSTART:20261101T060000
END:STANDARD
END:VTIMEZONE
BEGIN:VEVENT
DTSTART;TZID=America/New_York:20250705T130000
DTEND;TZID=America/New_York:20250705T140000
DTSTAMP:20260425T114213
CREATED:20250614T161820Z
LAST-MODIFIED:20250614T162116Z
UID:2738-1751720400-1751724000@clarabartonmuseum.org
SUMMARY:Walking Tour: Clara Barton’s Washington
DESCRIPTION:Join us as we step back into Civil War Washington\, DC through the eyes of Clara Barton. \nOn Saturdays at 1PM\, Clara Barton Missing Soldiers Office Museum docents will guide guests through the neighborhood that Clara Barton lived in during the Civil War. Beginning at 437 7th Street NW\, the boarding house where Barton resided\, this tour will explore the rapid changes to Washington\, DC that occurred throughout the 1860s as a result of the Civil War while also providing a look into what the daily lives of Washington locals looked like then. Walking tours will last approximately one hour. \nTours will depart at 1PM from 437 7th St NW\, Washington\, DC. Walking tours cost $15 and include free admission to the Clara Barton Missing Soldiers Office Museum. Tickets are free for Museum Members but must still be reserved. Reservations are accepted on a first come first serve basis. Please see the link below to get your tickets today! \nGet Tickets
URL:https://clarabartonmuseum.org/event/walking-tour-clara-bartons-washington-7/
LOCATION:Clara Barton Missing Soldiers Office Museum\, 437 7th Street NW\, Washington\, 20004\, United States
CATEGORIES:Clara Barton's Life and Work
ATTACH;FMTTYPE=image/jpeg:/wp-content/uploads/2025/06/494743219_1004135848570274_1116030781277882148_n.jpg
END:VEVENT
BEGIN:VEVENT
DTSTART;TZID=America/New_York:20250712T130000
DTEND;TZID=America/New_York:20250712T140000
DTSTAMP:20260425T114213
CREATED:20250614T162112Z
LAST-MODIFIED:20250614T162651Z
UID:2740-1752325200-1752328800@clarabartonmuseum.org
SUMMARY:Walking Tour: Clara Barton’s Washington
DESCRIPTION:Join us as we step back into Civil War Washington\, DC through the eyes of Clara Barton. \nOn Saturdays at 1PM\, Clara Barton Missing Soldiers Office Museum docents will guide guests through the neighborhood that Clara Barton lived in during the Civil War. Beginning at 437 7th Street NW\, the boarding house where Barton resided\, this tour will explore the rapid changes to Washington\, DC that occurred throughout the 1860s as a result of the Civil War while also providing a look into what the daily lives of Washington locals looked like then. Walking tours will last approximately one hour. \nTours will depart at 1PM from 437 7th St NW\, Washington\, DC. Walking tours cost $15 and include free admission to the Clara Barton Missing Soldiers Office Museum. Tickets are free for Museum Members but must still be reserved. Reservations are accepted on a first come first serve basis. Please see the link below to get your tickets today! \nGet Tickets
URL:https://clarabartonmuseum.org/event/walking-tour-clara-bartons-washington-8/
LOCATION:Clara Barton Missing Soldiers Office Museum\, 437 7th Street NW\, Washington\, 20004\, United States
CATEGORIES:Clara Barton's Life and Work
ATTACH;FMTTYPE=image/jpeg:/wp-content/uploads/2025/06/494743219_1004135848570274_1116030781277882148_n.jpg
ORGANIZER;CN="Madeleine Thompson":MAILTO:madeleine.thompson@civilwarmed.org
END:VEVENT
BEGIN:VEVENT
DTSTART;TZID=America/New_York:20250719T130000
DTEND;TZID=America/New_York:20250719T140000
DTSTAMP:20260425T114213
CREATED:20250614T162308Z
LAST-MODIFIED:20250614T162308Z
UID:2741-1752930000-1752933600@clarabartonmuseum.org
SUMMARY:Walking Tour: Clara Barton’s Washington
DESCRIPTION:Join us as we step back into Civil War Washington\, DC through the eyes of Clara Barton. \nOn Saturdays at 1PM\, Clara Barton Missing Soldiers Office Museum docents will guide guests through the neighborhood that Clara Barton lived in during the Civil War. Beginning at 437 7th Street NW\, the boarding house where Barton resided\, this tour will explore the rapid changes to Washington\, DC that occurred throughout the 1860s as a result of the Civil War while also providing a look into what the daily lives of Washington locals looked like then. Walking tours will last approximately one hour. \nTours will depart at 1PM from 437 7th St NW\, Washington\, DC. Walking tours cost $15 and include free admission to the Clara Barton Missing Soldiers Office Museum. Tickets are free for Museum Members but must still be reserved. Reservations are accepted on a first come first serve basis. Please see the link below to get your tickets today! \nGet Tickets
URL:https://clarabartonmuseum.org/event/walking-tour-clara-bartons-washington-9/
LOCATION:Clara Barton Missing Soldiers Office Museum\, 437 7th Street NW\, Washington\, 20004\, United States
CATEGORIES:Clara Barton's Life and Work
ATTACH;FMTTYPE=image/jpeg:/wp-content/uploads/2025/06/494743219_1004135848570274_1116030781277882148_n.jpg
ORGANIZER;CN="Madeleine Thompson":MAILTO:madeleine.thompson@civilwarmed.org
END:VEVENT
BEGIN:VEVENT
DTSTART;VALUE=DATE:20250726
DTEND;VALUE=DATE:20250727
DTSTAMP:20260425T114213
CREATED:20250618T210952Z
LAST-MODIFIED:20250625T162708Z
UID:2761-1753488000-1753574399@clarabartonmuseum.org
SUMMARY:10 Years of the Clara Barton Missing Soldiers Office Museum
DESCRIPTION:Join us on Saturday\, July 26 as we celebrate the 10 year anniversary of the Clara Barton Missing Soldiers Office Museum opening! \nWe will be celebrating our 10th birthday with free admission\, guided tours from Clara Barton’s perspective\, and a very special lecture from Clara Barton interpreter and historian Carolyn Ivanoff on the Missing Soldiers Office. \n11AM – Doors open \n12PM – Tour the Missing Soldiers Office with Clara Barton Reservations \n1PM – Clara Barton’s Washington Walking Tour Get Tickets \n2PM – Clara Barton’s Civil War and the Creation of the Missing Soldiers Office Details \n3PM – Tour the Missing Soldiers Office with Clara Barton Reservations \n5PM – Doors close
URL:https://clarabartonmuseum.org/event/10-years-of-the-clara-barton-missing-soldiers-office-museum/
LOCATION:Clara Barton Missing Soldiers Office Museum\, 437 7th Street NW\, Washington\, 20004\, United States
CATEGORIES:Civil War Missing Soldiers/Prisoners,Clara Barton's Life and Work,Free,Pay-what-you-please,Special Tour
ORGANIZER;CN="Madeleine Thompson":MAILTO:madeleine.thompson@civilwarmed.org
END:VEVENT
BEGIN:VEVENT
DTSTART;TZID=America/New_York:20250726T130000
DTEND;TZID=America/New_York:20250726T140000
DTSTAMP:20260425T114213
CREATED:20250614T162822Z
LAST-MODIFIED:20250614T162822Z
UID:2742-1753534800-1753538400@clarabartonmuseum.org
SUMMARY:Walking Tour: Clara Barton’s Washington
DESCRIPTION:Join us as we step back into Civil War Washington\, DC through the eyes of Clara Barton. \nOn Saturdays at 1PM\, Clara Barton Missing Soldiers Office Museum docents will guide guests through the neighborhood that Clara Barton lived in during the Civil War. Beginning at 437 7th Street NW\, the boarding house where Barton resided\, this tour will explore the rapid changes to Washington\, DC that occurred throughout the 1860s as a result of the Civil War while also providing a look into what the daily lives of Washington locals looked like then. Walking tours will last approximately one hour. \nTours will depart at 1PM from 437 7th St NW\, Washington\, DC. Walking tours cost $15 and include free admission to the Clara Barton Missing Soldiers Office Museum. Tickets are free for Museum Members but must still be reserved. Reservations are accepted on a first come first serve basis. Please see the link below to get your tickets today! \nGet Tickets
URL:https://clarabartonmuseum.org/event/walking-tour-clara-bartons-washington-10/
LOCATION:Clara Barton Missing Soldiers Office Museum\, 437 7th Street NW\, Washington\, 20004\, United States
CATEGORIES:Clara Barton's Life and Work
ATTACH;FMTTYPE=image/jpeg:/wp-content/uploads/2025/06/494743219_1004135848570274_1116030781277882148_n.jpg
ORGANIZER;CN="Madeleine Thompson":MAILTO:madeleine.thompson@civilwarmed.org
END:VEVENT
BEGIN:VEVENT
DTSTART;TZID=America/New_York:20250726T140000
DTEND;TZID=America/New_York:20250726T150000
DTSTAMP:20260425T114213
CREATED:20250618T205933Z
LAST-MODIFIED:20250618T205933Z
UID:2762-1753538400-1753542000@clarabartonmuseum.org
SUMMARY:Clara Barton's Civil War and the Creation of the Missing Soldiers Office
DESCRIPTION:Please join us Saturday\, July 26 in celebrating the Clara Barton Missing Soldiers Office’s 10th birthday! \nAuthor\, historian\, and first-person Clara Barton interpreter Carolyn Ivanoff will be presenting a special lecture detailing Clara Barton’s work throughout the Civil War and her development of the Missing Soldiers Office. \nMiss Clara Barton was known as the Angel of the Battlefield for her service as a nurse and relief worker during the Civil War.   In March of 1865\, with written permission from President Lincoln\, Barton established the Missing Soldiers Office in her boarding house on 7th Street in Washington\, D.C.  As the Civil War was coming to a close\, over 40 percent of the dead remained unidentified.  Tens of thousands of grieving families did not know the fate of their loved ones.  From the time she first went onto the battlefield Barton was acutely aware\, and deeply concerned\, for the fate of the men whom she cared for and their families.  With the opening of the Missing Soldiers’ Office\, Barton dedicated herself to the search for the missing and the identification of the dead.  By time the office closed in 1868\, Barton had worked herself into exhaustion.   More than 22\,000 unknown dead had been identified\, 13\,000 at Andersonville alone.
URL:https://clarabartonmuseum.org/event/clara-bartons-civil-war-and-the-creation-of-the-missing-soldiers-office-2/
LOCATION:Clara Barton Missing Soldiers Office Museum\, 437 7th Street NW\, Washington\, 20004\, United States
CATEGORIES:Civil War Missing Soldiers/Prisoners,Clara Barton's Life and Work,Free,Pay-what-you-please
ORGANIZER;CN="Madeleine Thompson":MAILTO:madeleine.thompson@civilwarmed.org
END:VEVENT
END:VCALENDAR