BEGIN:VCALENDAR
VERSION:2.0
PRODID:-//Clara Barton Museum - ECPv6.15.20//NONSGML v1.0//EN
CALSCALE:GREGORIAN
METHOD:PUBLISH
X-ORIGINAL-URL:https://clarabartonmuseum.org
X-WR-CALDESC:Events for Clara Barton Museum
REFRESH-INTERVAL;VALUE=DURATION:PT1H
X-Robots-Tag:noindex
X-PUBLISHED-TTL:PT1H
BEGIN:VTIMEZONE
TZID:America/New_York
BEGIN:DAYLIGHT
TZOFFSETFROM:-0500
TZOFFSETTO:-0400
TZNAME:EDT
DTSTART:20240310T070000
END:DAYLIGHT
BEGIN:STANDARD
TZOFFSETFROM:-0400
TZOFFSETTO:-0500
TZNAME:EST
DTSTART:20241103T060000
END:STANDARD
BEGIN:DAYLIGHT
TZOFFSETFROM:-0500
TZOFFSETTO:-0400
TZNAME:EDT
DTSTART:20250309T070000
END:DAYLIGHT
BEGIN:STANDARD
TZOFFSETFROM:-0400
TZOFFSETTO:-0500
TZNAME:EST
DTSTART:20251102T060000
END:STANDARD
BEGIN:DAYLIGHT
TZOFFSETFROM:-0500
TZOFFSETTO:-0400
TZNAME:EDT
DTSTART:20260308T070000
END:DAYLIGHT
BEGIN:STANDARD
TZOFFSETFROM:-0400
TZOFFSETTO:-0500
TZNAME:EST
DTSTART:20261101T060000
END:STANDARD
END:VTIMEZONE
BEGIN:VEVENT
DTSTART;TZID=America/New_York:20251108T080000
DTEND;TZID=America/New_York:20251108T170000
DTSTAMP:20260422T043752
CREATED:20251108T162405Z
LAST-MODIFIED:20251108T162405Z
UID:2838-1762588800-1762621200@clarabartonmuseum.org
SUMMARY:CLOSED
DESCRIPTION:The Clara Barton Missing Soldiers Office Museum will be closed Thursday\, December 25. We will reopen the following day on Friday\, December 26\, 2025.
URL:https://clarabartonmuseum.org/event/closed-3/
END:VEVENT
BEGIN:VEVENT
DTSTART;TZID=America/New_York:20251108T140000
DTEND;TZID=America/New_York:20251108T150000
DTSTAMP:20260422T043752
CREATED:20251028T165832Z
LAST-MODIFIED:20251028T190847Z
UID:2825-1762610400-1762614000@clarabartonmuseum.org
SUMMARY:How Civil War Medicine Killed President James Garfield
DESCRIPTION:When an assassin’s bullet struck James Garfield in July 1881\, the battle to save the president’s life began. In the weeks that followed\, doctors argued over how to treat the stricken executive. In the end\, Dr. D. Willard Bliss\, a former Civil War surgeon\, took control of Garfield’s recovery and controversy has surrounded his role ever since. Historian Jake Wynn will discuss the history of Garfield’s recovery and how antiquated techniques learned by Dr. Bliss during his Civil War experience played a role in James Garfield’s death in September 1881.\n\n \nJake Wynn is the Senior Marketing and Communications Manager at Visit Frederick and the former National Museum of Civil War Medicine Director of Interpretation. He is a 2015 graduate of Hood College\, with degrees in history and communications arts. He has formerly worked with Fredericksburg and Spotsylvania National Military Park\, and the Heart of the Civil War Heritage Area.\n \n\n\nThe presentation is included with admission to the Clara Barton Missing Soldiers Office Museum and FREE for NMCWM members.
URL:https://clarabartonmuseum.org/event/how-civil-war-medicine-killed-president-james-garfield/
LOCATION:Clara Barton Missing Soldiers Office Museum\, 437 7th Street NW\, Washington\, 20004\, United States
CATEGORIES:After the War,Civil War medicine
ATTACH;FMTTYPE=image/jpeg:/wp-content/uploads/2025/10/572970199_1231139689044236_8006944514889795137_n.jpg
ORGANIZER;CN="Madeleine Thompson":MAILTO:madeleine.thompson@civilwarmed.org
END:VEVENT
END:VCALENDAR